{
 "currentVersion": 10.91,
 "serviceDescription": "",
 "mapName": "Layers",
 "description": "",
 "copyrightText": "",
 "supportsDynamicLayers": true,
 "layers": [
  {
   "id": 0,
   "name": "Ortho20176In",
   "parentLayerId": -1,
   "defaultVisibility": false,
   "subLayerIds": null,
   "minScale": 0,
   "maxScale": 0,
   "type": "Raster Catalog Layer",
   "geometryType": "esriGeometryPolygon"
  },
  {
   "id": 1,
   "name": "Ortho201712In",
   "parentLayerId": -1,
   "defaultVisibility": false,
   "subLayerIds": null,
   "minScale": 0,
   "maxScale": 0,
   "type": "Raster Catalog Layer",
   "geometryType": "esriGeometryPolygon"
  }
 ],
 "tables": [],
 "spatialReference": {
  "wkid": 102100,
  "latestWkid": 3857
 },
 "singleFusedMapCache": true,
 "tileInfo": {
  "rows": 256,
  "cols": 256,
  "dpi": 96,
  "format": "MIXED",
  "compressionQuality": 75,
  "origin": {
   "x": -2.0037508342787E7,
   "y": 2.0037508342787E7
  },
  "spatialReference": {
   "wkid": 102100,
   "latestWkid": 3857
  },
  "lods": [
   {
    "level": 0,
    "resolution": 305.74811314055756,
    "scale": 1155581.108577
   },
   {
    "level": 1,
    "resolution": 152.87405657041106,
    "scale": 577790.554289
   },
   {
    "level": 2,
    "resolution": 76.43702828507324,
    "scale": 288895.277144
   },
   {
    "level": 3,
    "resolution": 38.21851414253662,
    "scale": 144447.638572
   },
   {
    "level": 4,
    "resolution": 19.10925707126831,
    "scale": 72223.819286
   },
   {
    "level": 5,
    "resolution": 9.554628535634155,
    "scale": 36111.909643
   },
   {
    "level": 6,
    "resolution": 4.77731426794937,
    "scale": 18055.954822
   },
   {
    "level": 7,
    "resolution": 2.388657133974685,
    "scale": 9027.977411
   },
   {
    "level": 8,
    "resolution": 1.1943285668550503,
    "scale": 4513.988705
   },
   {
    "level": 9,
    "resolution": 0.5971642835598172,
    "scale": 2256.994353
   },
   {
    "level": 10,
    "resolution": 0.29858214164761665,
    "scale": 1128.497176
   },
   {
    "level": 11,
    "resolution": 0.1492252984505969,
    "scale": 564
   }
  ]
 },
 "initialExtent": {
  "xmin": -9477935.950783806,
  "ymin": 5709302.750611546,
  "xmax": -9451265.897443699,
  "ymax": 5728194.038394122,
  "spatialReference": {
   "wkid": 102100,
   "latestWkid": 3857
  }
 },
 "fullExtent": {
  "xmin": -9476814.185332593,
  "ymin": 5662812.4759365795,
  "xmax": -9430583.454851588,
  "ymax": 5752486.287472518,
  "spatialReference": {
   "wkid": 102100,
   "latestWkid": 3857
  }
 },
 "minScale": 1155581.108577,
 "maxScale": 564,
 "units": "esriMeters",
 "supportedImageFormatTypes": "PNG32,PNG24,PNG,JPG,DIB,TIFF,EMF,PS,PDF,GIF,SVG,SVGZ,BMP",
 "documentInfo": {
  "Title": "",
  "Author": "",
  "Comments": "",
  "Subject": "",
  "Category": "",
  "AntialiasingMode": "None",
  "TextAntialiasingMode": "Force",
  "Keywords": ""
 },
 "capabilities": "Map,Query,Data",
 "supportedQueryFormats": "JSON, geoJSON",
 "exportTilesAllowed": false,
 "referenceScale": 0,
 "datumTransformations": [
  {
   "geoTransforms": [
    {
     "wkid": 108363,
     "latestWkid": 108363,
     "transformForward": false,
     "name": "WGS_1984_(ITRF08)_To_NAD_1983_2011"
    }
   ]
  },
  {
   "geoTransforms": [
    {
     "wkid": 108363,
     "latestWkid": 108363,
     "transformForward": true,
     "name": "WGS_1984_(ITRF08)_To_NAD_1983_2011"
    }
   ]
  }
 ],
 "supportsDatumTransformation": true,
 "maxRecordCount": 1000,
 "maxImageHeight": 4096,
 "maxImageWidth": 4096,
 "supportedExtensions": "",
 "resampling": true,
 "serviceItemId": "ba5c65595d5f422bb4d5e0b53f428d9a"
}
